BEGIN:VCALENDAR
VERSION:2.0
PRODID:icalendar-ruby
CALSCALE:GREGORIAN
METHOD:PUBLISH
BEGIN:VEVENT
DTSTAMP:20260419T145219Z
UID:20-412255@fumcpp.org
DTSTART:20260426T163000Z
DTEND:20260426T180000Z
CLASS:PUBLIC
CREATED:20260406T172146
DESCRIPTION:Church Vote on weather to approve the sale of approximately ±9
 .08 acres located at 9025 49th Street North\, Pinellas Park\, Florida\, re
 taining approximately 1.3 acres\, to APC Land Holdings\, LLC for a total p
 urchase price of $6\,500\,000
LAST-MODIFIED:20260406T172146
LOCATION:Sanctuary 
SUMMARY:Church Charge Conference
URL;VALUE=URI:https://www.fumcpp.org/events/church-charge-conference/2026-0
 4-26
END:VEVENT
END:VCALENDAR
